BEGIN:VCALENDAR
VERSION:2.0
PRODID:-//Texas Apartment Association - ECPv6.15.17//NONSGML v1.0//EN
CALSCALE:GREGORIAN
METHOD:PUBLISH
X-ORIGINAL-URL:https://www.taa.org
X-WR-CALDESC:Events for Texas Apartment Association
REFRESH-INTERVAL;VALUE=DURATION:PT1H
X-Robots-Tag:noindex
X-PUBLISHED-TTL:PT1H
BEGIN:VTIMEZONE
TZID:America/Chicago
BEGIN:DAYLIGHT
TZOFFSETFROM:-0600
TZOFFSETTO:-0500
TZNAME:CDT
DTSTART:20250309T080000
END:DAYLIGHT
BEGIN:STANDARD
TZOFFSETFROM:-0500
TZOFFSETTO:-0600
TZNAME:CST
DTSTART:20251102T070000
END:STANDARD
BEGIN:DAYLIGHT
TZOFFSETFROM:-0600
TZOFFSETTO:-0500
TZNAME:CDT
DTSTART:20260308T080000
END:DAYLIGHT
BEGIN:STANDARD
TZOFFSETFROM:-0500
TZOFFSETTO:-0600
TZNAME:CST
DTSTART:20261101T070000
END:STANDARD
BEGIN:DAYLIGHT
TZOFFSETFROM:-0600
TZOFFSETTO:-0500
TZNAME:CDT
DTSTART:20270314T080000
END:DAYLIGHT
BEGIN:STANDARD
TZOFFSETFROM:-0500
TZOFFSETTO:-0600
TZNAME:CST
DTSTART:20271107T070000
END:STANDARD
END:VTIMEZONE
BEGIN:VEVENT
DTSTART;VALUE=DATE:20260326
DTEND;VALUE=DATE:20260327
DTSTAMP:20260422T033124
CREATED:20260323T215542Z
LAST-MODIFIED:20260323T215647Z
UID:10000208-1774483200-1774569599@www.taa.org
SUMMARY:2026 TAA Redbook Seminar
DESCRIPTION:TAA REDBOOK 2026: Master the New Rules of Texas Landlord-Tenant Law\nTAA’s all-new TAA REDBOOK Seminar Series brings together leading attorneys from across Texas to unpack the biggest legal and operational updates affecting your business. \nModule 1 – SB 38 & Evictions: Learn what changed\, why it matters\, and how to protect your property under the state’s streamlined eviction process. (3 CECs)\nModule 2 –Operational Essentials: Dive into the real-world issues that shape property management—from screening to lease completion\, fair-housing requests\, repairs\, and beyond. (3 CECs) \nWhether you’re a seasoned professional or new to the rental real-estate industry\, TAA REDBOOK 2026 gives you the knowledge\, forms\, and confidence to stay compliant and effective.\nEarn CE credit. Build expertise. Protect your business. \nInstructor: Attorney\, Brian Cweren \nPlease contact Toni Stithem <victoriaapartmentassociation@yahoo.com> to register.
URL:https://www.taa.org/event/2026-taa-redbook-seminar/
LOCATION:One O’Connor Plaza\, 101 W. Goodwin Ave\, Victoria\, TX\, 77901\, United States
CATEGORIES:TAA REDBOOK
ORGANIZER;CN="VAA":MAILTO:victoriaapartmentassociation@yahoo.com
END:VEVENT
END:VCALENDAR