BEGIN:VCALENDAR
VERSION:2.0
PRODID:-//Texas Apartment Association - ECPv6.15.17//NONSGML v1.0//EN
CALSCALE:GREGORIAN
METHOD:PUBLISH
X-WR-CALNAME:Texas Apartment Association
X-ORIGINAL-URL:https://www.taa.org
X-WR-CALDESC:Events for Texas Apartment Association
REFRESH-INTERVAL;VALUE=DURATION:PT1H
X-Robots-Tag:noindex
X-PUBLISHED-TTL:PT1H
BEGIN:VTIMEZONE
TZID:America/Chicago
BEGIN:DAYLIGHT
TZOFFSETFROM:-0600
TZOFFSETTO:-0500
TZNAME:CDT
DTSTART:20250309T080000
END:DAYLIGHT
BEGIN:STANDARD
TZOFFSETFROM:-0500
TZOFFSETTO:-0600
TZNAME:CST
DTSTART:20251102T070000
END:STANDARD
BEGIN:DAYLIGHT
TZOFFSETFROM:-0600
TZOFFSETTO:-0500
TZNAME:CDT
DTSTART:20260308T080000
END:DAYLIGHT
BEGIN:STANDARD
TZOFFSETFROM:-0500
TZOFFSETTO:-0600
TZNAME:CST
DTSTART:20261101T070000
END:STANDARD
BEGIN:DAYLIGHT
TZOFFSETFROM:-0600
TZOFFSETTO:-0500
TZNAME:CDT
DTSTART:20270314T080000
END:DAYLIGHT
BEGIN:STANDARD
TZOFFSETFROM:-0500
TZOFFSETTO:-0600
TZNAME:CST
DTSTART:20271107T070000
END:STANDARD
END:VTIMEZONE
BEGIN:VEVENT
DTSTART;TZID=America/Chicago:20260421T093000
DTEND;TZID=America/Chicago:20260512T170000
DTSTAMP:20260422T025204
CREATED:20260122T170224Z
LAST-MODIFIED:20260122T170327Z
UID:10000160-1776763800-1778605200@www.taa.org
SUMMARY:CALP: Certified Apartment Leasing Professional
DESCRIPTION:ABOUT THE PROGRAM \nAs a Leasing Professional\, you are the front line and the face of your community.  From generating sales to providing positive first impressions and maintaining resident relationships\, your role as a Leasing Professional is integral to your community’s success.  Whether you have one or ten years of experience\, you can benefit from this deep dive in what it means to be a top-notch Leasing Professional. \nBeyond the program content\, you will benefit from group activities and discussions where you will have the opportunity to engage and learn from other professionals with varying backgrounds and levels of experience.   What are you waiting for?  Show your manager and colleagues your commitment and skills by obtaining your CALP Designation! \nINSTRUCTED BY \nJordan Flores\, Regional Trainer\, Willow Bridge Property Company
URL:https://www.taa.org/event/calp-certified-apartment-leasing-professional/
LOCATION:2100 West Walnut Hill Lane Suite 100 C Irving\, TX 75038-4400
CATEGORIES:Certified Apartment Leasing Professional (CALP)
END:VEVENT
BEGIN:VEVENT
DTSTART;TZID=America/Chicago:20260422T090000
DTEND;TZID=America/Chicago:20260422T160000
DTSTAMP:20260422T025204
CREATED:20260420T164234Z
LAST-MODIFIED:20260420T164234Z
UID:10000213-1776848400-1776873600@www.taa.org
SUMMARY:TAA REDBOOK Symposium
DESCRIPTION:TAA REDBOOK 2026: Master the New Rules of Texas Landlord-Tenant Law\nTAA’s all-new TAA REDBOOK Seminar Series brings together leading attorneys from across Texas to unpack the biggest legal and operational updates affecting your business. \nModule 1 – SB 38 & Evictions: Learn what changed\, why it matters\, and how to protect your property under the state’s streamlined eviction process. (3 CECs)\nModule 2 –Operational Essentials: Dive into the real-world issues that shape property management—from screening to lease completion\, fair-housing requests\, repairs\, and beyond. (3 CECs) \nWhether you’re a seasoned professional or new to the rental real-estate industry\, TAA REDBOOK 2026 gives you the knowledge\, forms\, and confidence to stay compliant and effective.\nEarn CE credit. Build expertise. Protect your business. \nInstructor: Attorney\, David Fritsche
URL:https://www.taa.org/event/taa-redbook-symposium/
LOCATION:Greater San Antonio Builders Association\, 3625 Paesanos Parkway\, San Antonio\, 78231\, United States
CATEGORIES:TAA REDBOOK
END:VEVENT
BEGIN:VEVENT
DTSTART;TZID=America/Chicago:20260422T093000
DTEND;TZID=America/Chicago:20260423T123000
DTSTAMP:20260422T025204
CREATED:20260129T181728Z
LAST-MODIFIED:20260304T193325Z
UID:10000169-1776850200-1776947400@www.taa.org
SUMMARY:2026 TAA Redbook Webinar - 2 Part Live Event w/Q&A
DESCRIPTION:Stay ahead of legal changes and protect your operations by joining joining Jennifer Owen for the 2026 TAA Redbook Legal Seminar Webinar—your go-to resource for understanding the latest updates to Texas multifamily housing law. This session delivers critical insights straight from the newest edition of the TAA Redbook\, ensuring your team is informed\, compliant\, and prepared for the year ahead. \nWhether you’re onsite\, in management\, or in a leadership role\, this webinar breaks down the most important policy shifts\, form revisions\, compliance requirements\, and legal considerations affecting rental housing in 2026. Expect clear explanations\, real-world examples\, and practical guidance you can apply immediately. \nWhat You’ll Learn: \nKey updates to the 2026 TAA Redbook and what they mean for your daily operations \nChanges to TAA lease forms\, addenda\, and required documentation \nCritical compliance reminders to help you avoid costly mistakes \nLegal insights on resident relations\, fair housing\, collections\, evictions\, and more \nBest practices for implementing new requirements across your teams and communities \nThis year’s program includes two in-depth modules (each about three hours): \nModule 1 – SB 38 & Evictions: What changed\, why it matters\, and how to protect your property under the state’s streamlined eviction process. (3 CECs)\nModule 2 – Operational Essentials: Real-world issues shaping property management — from screening and leasing to fair-housing compliance\, repairs\, and beyond. (3 CECs) \nWhether you’re a seasoned professional or new to the industry\, REDBOOK 2026 gives you the knowledge\, forms\, and confidence to stay compliant and effective. \nInstructor: Jennifer Owens\, Attorney at Higier Allen & Lautin\, P.C.
URL:https://www.taa.org/event/2026-taa-redbook-webinar-2-part-live-event-w-qa/
LOCATION:Live Webinar
CATEGORIES:TAA REDBOOK
END:VEVENT
END:VCALENDAR